Package: BiSeq Version: 1.48.0 Command: rm -rf BiSeq.buildbin-libdir && mkdir BiSeq.buildbin-libdir && /Users/biocbuild/BBS/utils/build-universal.sh BiSeq_1.48.0.tar.gz /Library/Frameworks/R.framework/Resources/bin/R BiSeq.buildbin-libdir StartedAt: 2025-04-22 00:35:47 -0400 (Tue, 22 Apr 2025) EndedAt: 2025-04-22 00:36:47 -0400 (Tue, 22 Apr 2025) EllapsedTime: 60.2 seconds RetCode: 0 Status: OK PackageFile: BiSeq_1.48.0.tgz PackageFileSize: 1.159 MiB