Package: BiRewire
Version: 3.37.0
Command: C:\Users\biocbuild\bbs-3.20-bioc\R\bin\R.exe CMD INSTALL BiRewire
StartedAt: 2024-07-15 15:17:57 -0400 (Mon, 15 Jul 2024)
EndedAt: 2024-07-15 15:18:12 -0400 (Mon, 15 Jul 2024)
EllapsedTime: 15.4 seconds
RetCode: 0
Status: OK