Package: BiRewire Version: 3.40.0 Command: /home/biocbuild/R/R/bin/R CMD INSTALL BiRewire StartedAt: 2025-04-21 20:15:52 -0000 (Mon, 21 Apr 2025) EndedAt: 2025-04-21 20:16:06 -0000 (Mon, 21 Apr 2025) EllapsedTime: 14.1 seconds RetCode: 0 Status: OK