Package: BiRewire Version: 3.40.0 Command: /Library/Frameworks/R.framework/Resources/bin/R CMD check --install=check:BiRewire.install-out.txt --library=/Library/Frameworks/R.framework/Resources/library --no-vignettes --timings BiRewire_3.40.0.tar.gz StartedAt: 2025-04-29 02:49:50 -0400 (Tue, 29 Apr 2025) EndedAt: 2025-04-29 02:50:57 -0400 (Tue, 29 Apr 2025) EllapsedTime: 66.7 seconds RetCode: 0 Status: WARNINGS CheckDir: BiRewire.Rcheck Warnings: 1