Package: BiRewire Version: 3.38.0 Command: /Library/Frameworks/R.framework/Resources/bin/R CMD build --keep-empty-dirs --no-resave-data BiRewire StartedAt: 2025-02-03 19:41:31 -0500 (Mon, 03 Feb 2025) EndedAt: 2025-02-03 19:42:46 -0500 (Mon, 03 Feb 2025) EllapsedTime: 75.6 seconds RetCode: 0 Status: OK PackageFile: BiRewire_3.38.0.tar.gz PackageFileSize: 726.7 KiB