Package: BiGGR Version: 1.42.0 Command: /home/biocbuild/bbs-3.20-bioc/R/bin/R CMD INSTALL BiGGR StartedAt: 2025-01-30 15:08:53 -0500 (Thu, 30 Jan 2025) EndedAt: 2025-01-30 15:09:09 -0500 (Thu, 30 Jan 2025) EllapsedTime: 15.6 seconds RetCode: 0 Status: OK