Package: BiGGR Version: 1.42.0 Command: /home/biocbuild/bbs-3.20-bioc/R/bin/R CMD build --keep-empty-dirs --no-resave-data --md5 BiGGR StartedAt: 2025-01-30 16:22:24 -0500 (Thu, 30 Jan 2025) EndedAt: 2025-01-30 16:22:41 -0500 (Thu, 30 Jan 2025) EllapsedTime: 17.0 seconds RetCode: 0 Status: OK PackageFile: BiGGR_1.42.0.tar.gz PackageFileSize: 4.331 MiB