Package: BiFET Version: 1.26.0 Command: /home/biocbuild/bbs-3.20-bioc/R/bin/R CMD build --keep-empty-dirs --no-resave-data BiFET StartedAt: 2024-11-19 17:43:43 -0500 (Tue, 19 Nov 2024) EndedAt: 2024-11-19 17:44:21 -0500 (Tue, 19 Nov 2024) EllapsedTime: 38.0 seconds RetCode: 0 Status: OK PackageFile: BiFET_1.26.0.tar.gz PackageFileSize: 644.1 KiB