Package: BiFET Version: 1.28.0 Command: chmod a+r BiFET -R && E:\biocbuild\bbs-3.21-bioc\R\bin\R.exe CMD build --keep-empty-dirs --no-resave-data BiFET StartedAt: 2025-08-14 17:34:58 -0400 (Thu, 14 Aug 2025) EndedAt: 2025-08-14 17:37:09 -0400 (Thu, 14 Aug 2025) EllapsedTime: 131.0 seconds RetCode: 0 Status: OK PackageFile: BiFET_1.28.0.tar.gz PackageFileSize: 644.2 KiB