Package: BiFET Version: 1.28.0 Command: /home/biocbuild/R/R/bin/R CMD build --keep-empty-dirs --no-resave-data BiFET StartedAt: 2025-05-05 23:00:45 -0000 (Mon, 05 May 2025) EndedAt: 2025-05-05 23:02:18 -0000 (Mon, 05 May 2025) EllapsedTime: 93.0 seconds RetCode: 0 Status: OK PackageFile: BiFET_1.28.0.tar.gz PackageFileSize: 669.4 KiB