Package: BiFET Version: 1.28.0 Command: /Library/Frameworks/R.framework/Resources/bin/R CMD INSTALL BiFET StartedAt: 2025-04-21 15:10:59 -0400 (Mon, 21 Apr 2025) EndedAt: 2025-04-21 15:11:03 -0400 (Mon, 21 Apr 2025) EllapsedTime: 4.4 seconds RetCode: 0 Status: OK