Package: BiFET Version: 1.28.0 Command: /Library/Frameworks/R.framework/Resources/bin/R CMD check --install=check:BiFET.install-out.txt --library=/Library/Frameworks/R.framework/Resources/library --no-vignettes --timings BiFET_1.28.0.tar.gz StartedAt: 2025-04-21 18:18:57 -0400 (Mon, 21 Apr 2025) EndedAt: 2025-04-21 18:20:01 -0400 (Mon, 21 Apr 2025) EllapsedTime: 64.8 seconds RetCode: 0 Status: OK CheckDir: BiFET.Rcheck Warnings: 0