Package: BiFET Version: 1.28.0 Command: /Library/Frameworks/R.framework/Resources/bin/R CMD build --keep-empty-dirs --no-resave-data BiFET StartedAt: 2025-04-21 15:43:32 -0400 (Mon, 21 Apr 2025) EndedAt: 2025-04-21 15:43:53 -0400 (Mon, 21 Apr 2025) EllapsedTime: 21.2 seconds RetCode: 0 Status: OK PackageFile: BiFET_1.28.0.tar.gz PackageFileSize: 644.5 KiB