Package: BeadDataPackR Version: 1.60.0 Command: /Library/Frameworks/R.framework/Resources/bin/R CMD INSTALL BeadDataPackR StartedAt: 2025-05-15 15:20:55 -0400 (Thu, 15 May 2025) EndedAt: 2025-05-15 15:22:04 -0400 (Thu, 15 May 2025) EllapsedTime: 68.9 seconds RetCode: 0 Status: OK