Package: BeadDataPackR Version: 1.60.0 Command: /home/biocbuild/R/R/bin/R CMD INSTALL BeadDataPackR StartedAt: 2025-05-05 20:16:34 -0000 (Mon, 05 May 2025) EndedAt: 2025-05-05 20:17:27 -0000 (Mon, 05 May 2025) EllapsedTime: 52.8 seconds RetCode: 0 Status: OK