Package: BeadDataPackR Version: 1.60.0 Command: /Library/Frameworks/R.framework/Resources/bin/R CMD check --install=check:BeadDataPackR.install-out.txt --library=/Library/Frameworks/R.framework/Resources/library --no-vignettes --timings BeadDataPackR_1.60.0.tar.gz StartedAt: 2025-04-21 18:17:01 -0400 (Mon, 21 Apr 2025) EndedAt: 2025-04-21 18:17:12 -0400 (Mon, 21 Apr 2025) EllapsedTime: 11.2 seconds RetCode: 0 Status: OK CheckDir: BeadDataPackR.Rcheck Warnings: 0