Package: BeadDataPackR Version: 1.60.0 Command: /Library/Frameworks/R.framework/Resources/bin/R CMD build --keep-empty-dirs --no-resave-data BeadDataPackR StartedAt: 2025-04-21 15:42:24 -0400 (Mon, 21 Apr 2025) EndedAt: 2025-04-21 15:42:29 -0400 (Mon, 21 Apr 2025) EllapsedTime: 5.1 seconds RetCode: 0 Status: OK PackageFile: BeadDataPackR_1.60.0.tar.gz PackageFileSize: 235.1 KiB