Package: BayesSpace Version: 1.16.0 Command: /home/biocbuild/bbs-3.20-bioc/R/bin/R CMD build --keep-empty-dirs --no-resave-data --md5 BayesSpace StartedAt: 2025-01-30 16:17:49 -0500 (Thu, 30 Jan 2025) EndedAt: 2025-01-30 16:32:31 -0500 (Thu, 30 Jan 2025) EllapsedTime: 881.8 seconds RetCode: 0 Status: OK PackageFile: BayesSpace_1.16.0.tar.gz PackageFileSize: 1.212 MiB