Package: BayesSpace Version: 1.18.0 Command: /Library/Frameworks/R.framework/Resources/bin/R CMD INSTALL BayesSpace StartedAt: 2025-05-08 16:41:54 -0400 (Thu, 08 May 2025) EndedAt: 2025-05-08 16:44:15 -0400 (Thu, 08 May 2025) EllapsedTime: 141.5 seconds RetCode: 0 Status: OK