Package: BayesSpace Version: 1.17.0 Command: rm -rf BayesSpace.buildbin-libdir && mkdir BayesSpace.buildbin-libdir && /Users/biocbuild/BBS/utils/build-universal.sh BayesSpace_1.17.0.tar.gz /Library/Frameworks/R.framework/Resources/bin/R BayesSpace.buildbin-libdir StartedAt: 2025-03-12 00:29:53 -0400 (Wed, 12 Mar 2025) EndedAt: 2025-03-12 00:31:25 -0400 (Wed, 12 Mar 2025) EllapsedTime: 92.3 seconds RetCode: 0 Status: OK PackageFile: BayesSpace_1.17.0.tgz PackageFileSize: 1.962 MiB