Package: BayesKnockdown Version: 1.34.0 Maintainer: William Chad Young MaintainerEmail: wmchad at uw.edu git_url: https://git.bioconductor.org/packages/BayesKnockdown git_branch: RELEASE_3_21 git_last_commit: fdb454f git_last_commit_date: 2025-04-15 11:04:11 -0400 (Tue, 15 Apr 2025)