Package: BatchSVG Version: 1.2.0 Command: /Library/Frameworks/R.framework/Resources/bin/R CMD INSTALL BatchSVG StartedAt: 2025-10-31 15:56:12 -0400 (Fri, 31 Oct 2025) EndedAt: 2025-10-31 15:56:47 -0400 (Fri, 31 Oct 2025) EllapsedTime: 35.4 seconds RetCode: 0 Status: OK