Package: BatchSVG Version: 1.2.0 Command: /Library/Frameworks/R.framework/Resources/bin/R CMD build --keep-empty-dirs --no-resave-data BatchSVG StartedAt: 2025-10-30 16:03:48 -0400 (Thu, 30 Oct 2025) EndedAt: 2025-10-30 16:07:07 -0400 (Thu, 30 Oct 2025) EllapsedTime: 198.8 seconds RetCode: 0 Status: OK PackageFile: BatchSVG_1.2.0.tar.gz PackageFileSize: 1.692 MiB