Package: BatchSVG Version: 1.0.0 Command: /home/biocbuild/R/R/bin/R CMD build --keep-empty-dirs --no-resave-data BatchSVG StartedAt: 2025-10-13 22:49:44 -0000 (Mon, 13 Oct 2025) EndedAt: 2025-10-13 23:09:30 -0000 (Mon, 13 Oct 2025) EllapsedTime: 1186.3 seconds RetCode: 0 Status: OK PackageFile: BatchSVG_1.0.0.tar.gz PackageFileSize: 1.475 MiB