Package: BasicSTARRseq Version: 1.36.0 Maintainer: Annika Buerger MaintainerEmail: annika.buerger at ukmuenster.de git_url: https://git.bioconductor.org/packages/BasicSTARRseq git_branch: RELEASE_3_21 git_last_commit: f0991ad git_last_commit_date: 2025-04-15 10:58:05 -0400 (Tue, 15 Apr 2025)