Package: Basic4Cseq Version: 1.44.0 Command: rm -rf Basic4Cseq.buildbin-libdir && mkdir Basic4Cseq.buildbin-libdir && E:\biocbuild\bbs-3.21-bioc\R\bin\R.exe CMD INSTALL --build --library=Basic4Cseq.buildbin-libdir Basic4Cseq_1.44.0.tar.gz StartedAt: 2025-08-15 08:48:21 -0400 (Fri, 15 Aug 2025) EndedAt: 2025-08-15 08:49:41 -0400 (Fri, 15 Aug 2025) EllapsedTime: 80.7 seconds RetCode: 0 Status: OK PackageFile: Basic4Cseq_1.44.0.zip PackageFileSize: 782.7 KiB