Package: BaseSpaceR Version: 1.50.0 Command: /home/biocbuild/R/R/bin/R CMD build --keep-empty-dirs --no-resave-data BaseSpaceR StartedAt: 2025-01-30 21:41:56 -0000 (Thu, 30 Jan 2025) EndedAt: 2025-01-30 21:42:24 -0000 (Thu, 30 Jan 2025) EllapsedTime: 28.0 seconds RetCode: 0 Status: OK PackageFile: BaseSpaceR_1.50.0.tar.gz PackageFileSize: 572 KiB