Package: BaseSpaceR Version: 1.50.0 Command: rm -rf BaseSpaceR.buildbin-libdir && mkdir BaseSpaceR.buildbin-libdir && /Users/biocbuild/BBS/utils/build-universal.sh BaseSpaceR_1.50.0.tar.gz /Library/Frameworks/R.framework/Resources/bin/R BaseSpaceR.buildbin-libdir StartedAt: 2025-01-31 12:21:59 -0500 (Fri, 31 Jan 2025) EndedAt: 2025-01-31 12:22:13 -0500 (Fri, 31 Jan 2025) EllapsedTime: 14.2 seconds RetCode: 0 Status: OK PackageFile: BaseSpaceR_1.50.0.tgz PackageFileSize: 750.9 KiB