############################################################################## ############################################################################## ### ### Running command: ### ### rm -rf BaseSpaceR.buildbin-libdir && mkdir BaseSpaceR.buildbin-libdir && /Users/biocbuild/BBS/utils/build-universal.sh BaseSpaceR_1.52.0.tar.gz /Library/Frameworks/R.framework/Resources/bin/R BaseSpaceR.buildbin-libdir ### ############################################################################## ############################################################################## >>>>>>> >>>>>>> INSTALLATION WITH 'R CMD INSTALL --preclean --no-multiarch --library=BaseSpaceR.buildbin-libdir BaseSpaceR_1.52.0.tar.gz' >>>>>>> * installing *source* package ‘BaseSpaceR’ ... ** this is package ‘BaseSpaceR’ version ‘1.52.0’ ** using staged installation ** R ** data ** inst ** byte-compile and prepare package for lazy loading ** help *** installing help indices ** building package indices ** installing vignettes ** testing if installed package can be loaded from temporary location ** testing if installed package can be loaded from final location ** testing if installed package keeps a record of temporary installation path * DONE (BaseSpaceR) chown: BaseSpaceR.buildbin-libdir/BaseSpaceR/R/BaseSpaceR: Operation not permitted chown: BaseSpaceR.buildbin-libdir/BaseSpaceR/R/BaseSpaceR.rdb: Operation not permitted chown: BaseSpaceR.buildbin-libdir/BaseSpaceR/R/BaseSpaceR.rdx: Operation not permitted chown: BaseSpaceR.buildbin-libdir/BaseSpaceR/R: Operation not permitted chown: BaseSpaceR.buildbin-libdir/BaseSpaceR/Meta/vignette.rds: Operation not permitted chown: BaseSpaceR.buildbin-libdir/BaseSpaceR/Meta/data.rds: Operation not permitted chown: BaseSpaceR.buildbin-libdir/BaseSpaceR/Meta/links.rds: Operation not permitted chown: BaseSpaceR.buildbin-libdir/BaseSpaceR/Meta/features.rds: Operation not permitted chown: BaseSpaceR.buildbin-libdir/BaseSpaceR/Meta/nsInfo.rds: Operation not permitted chown: BaseSpaceR.buildbin-libdir/BaseSpaceR/Meta/package.rds: Operation not permitted chown: BaseSpaceR.buildbin-libdir/BaseSpaceR/Meta/hsearch.rds: Operation not permitted chown: BaseSpaceR.buildbin-libdir/BaseSpaceR/Meta/Rd.rds: Operation not permitted chown: BaseSpaceR.buildbin-libdir/BaseSpaceR/Meta: Operation not permitted chown: BaseSpaceR.buildbin-libdir/BaseSpaceR/NAMESPACE: Operation not permitted chown: BaseSpaceR.buildbin-libdir/BaseSpaceR/html/R.css: Operation not permitted chown: BaseSpaceR.buildbin-libdir/BaseSpaceR/html/00Index.html: Operation not permitted chown: BaseSpaceR.buildbin-libdir/BaseSpaceR/html: Operation not permitted chown: BaseSpaceR.buildbin-libdir/BaseSpaceR/DESCRIPTION: Operation not permitted chown: BaseSpaceR.buildbin-libdir/BaseSpaceR/NEWS: Operation not permitted chown: BaseSpaceR.buildbin-libdir/BaseSpaceR/scripts/BaseSpaceR-QscoreApp.Rnw: Operation not permitted chown: BaseSpaceR.buildbin-libdir/BaseSpaceR/scripts: Operation not permitted chown: BaseSpaceR.buildbin-libdir/BaseSpaceR/INDEX: Operation not permitted chown: BaseSpaceR.buildbin-libdir/BaseSpaceR/doc/index.html: Operation not permitted chown: BaseSpaceR.buildbin-libdir/BaseSpaceR/doc/BaseSpaceR.R: Operation not permitted chown: BaseSpaceR.buildbin-libdir/BaseSpaceR/doc/BaseSpaceR.Rnw: Operation not permitted chown: BaseSpaceR.buildbin-libdir/BaseSpaceR/doc/BaseSpaceR.pdf: Operation not permitted chown: BaseSpaceR.buildbin-libdir/BaseSpaceR/doc: Operation not permitted chown: BaseSpaceR.buildbin-libdir/BaseSpaceR/data/aAuth.rda: Operation not permitted chown: BaseSpaceR.buildbin-libdir/BaseSpaceR/data: Operation not permitted chown: BaseSpaceR.buildbin-libdir/BaseSpaceR/help/AnIndex: Operation not permitted chown: BaseSpaceR.buildbin-libdir/BaseSpaceR/help/aliases.rds: Operation not permitted chown: BaseSpaceR.buildbin-libdir/BaseSpaceR/help/paths.rds: Operation not permitted chown: BaseSpaceR.buildbin-libdir/BaseSpaceR/help/BaseSpaceR.rdb: Operation not permitted chown: BaseSpaceR.buildbin-libdir/BaseSpaceR/help/BaseSpaceR.rdx: Operation not permitted chown: BaseSpaceR.buildbin-libdir/BaseSpaceR/help: Operation not permitted chown: BaseSpaceR.buildbin-libdir/BaseSpaceR: Operation not permitted