Package: BaseSpaceR Version: 1.52.0 Command: /Library/Frameworks/R.framework/Resources/bin/R CMD INSTALL BaseSpaceR StartedAt: 2025-04-21 15:04:28 -0400 (Mon, 21 Apr 2025) EndedAt: 2025-04-21 15:05:01 -0400 (Mon, 21 Apr 2025) EllapsedTime: 32.9 seconds RetCode: 0 Status: OK