Package: BaseSpaceR Version: 1.52.0 Command: /Library/Frameworks/R.framework/Resources/bin/R CMD check --install=check:BaseSpaceR.install-out.txt --library=/Library/Frameworks/R.framework/Resources/library --no-vignettes --timings BaseSpaceR_1.52.0.tar.gz StartedAt: 2025-04-21 19:10:27 -0400 (Mon, 21 Apr 2025) EndedAt: 2025-04-21 19:11:21 -0400 (Mon, 21 Apr 2025) EllapsedTime: 53.7 seconds RetCode: 0 Status: WARNINGS CheckDir: BaseSpaceR.Rcheck Warnings: 1