Package: BaseSpaceR Version: 1.52.0 Command: /Library/Frameworks/R.framework/Resources/bin/R CMD build --keep-empty-dirs --no-resave-data BaseSpaceR StartedAt: 2025-04-21 15:59:52 -0400 (Mon, 21 Apr 2025) EndedAt: 2025-04-21 16:00:11 -0400 (Mon, 21 Apr 2025) EllapsedTime: 18.3 seconds RetCode: 0 Status: OK PackageFile: BaseSpaceR_1.52.0.tar.gz PackageFileSize: 580.8 KiB