Package: Banksy Version: 1.2.0 Command: /home/biocbuild/R/R/bin/R CMD INSTALL Banksy StartedAt: 2025-01-30 20:31:43 -0000 (Thu, 30 Jan 2025) EndedAt: 2025-01-30 20:32:13 -0000 (Thu, 30 Jan 2025) EllapsedTime: 29.3 seconds RetCode: 0 Status: OK