Package: BaalChIP Version: 1.34.0 Command: /Library/Frameworks/R.framework/Resources/bin/R CMD INSTALL BaalChIP StartedAt: 2025-05-05 15:42:57 -0400 (Mon, 05 May 2025) EndedAt: 2025-05-05 15:45:04 -0400 (Mon, 05 May 2025) EllapsedTime: 126.9 seconds RetCode: 0 Status: OK