Package: BUSpaRse Version: 1.22.2 Command: /home/biocbuild/bbs-3.21-bioc/R/bin/R CMD INSTALL BUSpaRse StartedAt: 2025-10-01 15:42:33 -0400 (Wed, 01 Oct 2025) EndedAt: 2025-10-01 15:43:33 -0400 (Wed, 01 Oct 2025) EllapsedTime: 59.9 seconds RetCode: 0 Status: OK