Package: BUSpaRse Version: 1.22.2 Command: /home/biocbuild/bbs-3.21-bioc/R/bin/R CMD build --keep-empty-dirs --no-resave-data BUSpaRse StartedAt: 2025-10-15 16:32:13 -0400 (Wed, 15 Oct 2025) EndedAt: 2025-10-15 16:34:48 -0400 (Wed, 15 Oct 2025) EllapsedTime: 155.1 seconds RetCode: 1 Status: ERROR PackageFile: None PackageFileSize: NA