Package: BUSpaRse Version: 1.20.0 Command: /home/biocbuild/R/R/bin/R CMD INSTALL BUSpaRse StartedAt: 2024-11-19 20:57:27 -0000 (Tue, 19 Nov 2024) EndedAt: 2024-11-19 20:59:00 -0000 (Tue, 19 Nov 2024) EllapsedTime: 92.4 seconds RetCode: 0 Status: OK