Package: BUSpaRse Version: 1.22.0 Command: /Library/Frameworks/R.framework/Resources/bin/R CMD INSTALL BUSpaRse StartedAt: 2025-04-28 19:21:39 -0400 (Mon, 28 Apr 2025) EndedAt: 2025-04-28 19:22:01 -0400 (Mon, 28 Apr 2025) EllapsedTime: 21.8 seconds RetCode: 0 Status: OK