Package: BUSpaRse Version: 1.20.0 Command: /Library/Frameworks/R.framework/Resources/bin/R CMD check --install=check:BUSpaRse.install-out.txt --library=/Library/Frameworks/R.framework/Resources/library --no-vignettes --timings BUSpaRse_1.20.0.tar.gz StartedAt: 2025-01-31 13:10:05 -0500 (Fri, 31 Jan 2025) EndedAt: 2025-01-31 13:18:13 -0500 (Fri, 31 Jan 2025) EllapsedTime: 488.3 seconds RetCode: 0 Status: OK CheckDir: BUSpaRse.Rcheck Warnings: 0