Package: BUSpaRse Version: 1.22.0 Command: /Library/Frameworks/R.framework/Resources/bin/R CMD build --keep-empty-dirs --no-resave-data BUSpaRse StartedAt: 2025-04-28 20:23:33 -0400 (Mon, 28 Apr 2025) EndedAt: 2025-04-28 20:24:41 -0400 (Mon, 28 Apr 2025) EllapsedTime: 67.7 seconds RetCode: 0 Status: OK PackageFile: BUSpaRse_1.22.0.tar.gz PackageFileSize: 578.3 KiB