Package: BUS Version: 1.64.0 Maintainer: Yuanhua Liu MaintainerEmail: liuyuanhua at picb.ac.cn git_url: https://git.bioconductor.org/packages/BUS git_branch: RELEASE_3_21 git_last_commit: bdf79c3 git_last_commit_date: 2025-04-15 09:45:14 -0400 (Tue, 15 Apr 2025)