Package: BSgenomeForge Version: 1.8.0 Command: /Library/Frameworks/R.framework/Resources/bin/R CMD INSTALL BSgenomeForge StartedAt: 2025-05-15 16:00:46 -0400 (Thu, 15 May 2025) EndedAt: 2025-05-15 16:01:53 -0400 (Thu, 15 May 2025) EllapsedTime: 66.9 seconds RetCode: 0 Status: OK