Package: BSgenomeForge Version: 1.8.0 Command: /home/biocbuild/R/R/bin/R CMD check --install=check:BSgenomeForge.install-out.txt --library=/home/biocbuild/R/R/site-library --no-vignettes --timings BSgenomeForge_1.8.0.tar.gz StartedAt: 2025-05-20 06:33:45 -0000 (Tue, 20 May 2025) EndedAt: 2025-05-20 06:40:45 -0000 (Tue, 20 May 2025) EllapsedTime: 420.3 seconds RetCode: 0 Status: OK CheckDir: BSgenomeForge.Rcheck Warnings: 0