Package: BSgenomeForge Version: 1.8.0 Command: /home/biocbuild/R/R/bin/R CMD build --keep-empty-dirs --no-resave-data BSgenomeForge StartedAt: 2025-05-19 23:16:59 -0000 (Mon, 19 May 2025) EndedAt: 2025-05-19 23:18:29 -0000 (Mon, 19 May 2025) EllapsedTime: 90.0 seconds RetCode: 0 Status: OK PackageFile: BSgenomeForge_1.8.0.tar.gz PackageFileSize: 708.9 KiB