Package: BSgenomeForge Version: 1.8.0 Command: rm -rf BSgenomeForge.buildbin-libdir && mkdir BSgenomeForge.buildbin-libdir && /Users/biocbuild/BBS/utils/build-universal.sh BSgenomeForge_1.8.0.tar.gz /Library/Frameworks/R.framework/Resources/bin/R BSgenomeForge.buildbin-libdir StartedAt: 2025-05-21 14:31:35 -0400 (Wed, 21 May 2025) EndedAt: 2025-05-21 14:32:16 -0400 (Wed, 21 May 2025) EllapsedTime: 40.9 seconds RetCode: 0 Status: OK PackageFile: BSgenomeForge_1.8.0.tgz PackageFileSize: 811.8 KiB