Package: BSgenome Version: 1.74.0 Command: F:\biocbuild\bbs-3.20-bioc\R\bin\R.exe CMD INSTALL BSgenome StartedAt: 2025-01-30 16:07:16 -0500 (Thu, 30 Jan 2025) EndedAt: 2025-01-30 16:08:57 -0500 (Thu, 30 Jan 2025) EllapsedTime: 100.6 seconds RetCode: 0 Status: OK