Package: BSgenome Version: 1.76.0 Command: /Library/Frameworks/R.framework/Resources/bin/R CMD check --install=check:BSgenome.install-out.txt --library=/Library/Frameworks/R.framework/Resources/library --no-vignettes --timings BSgenome_1.76.0.tar.gz StartedAt: 2025-04-25 01:29:47 -0400 (Fri, 25 Apr 2025) EndedAt: 2025-04-25 01:41:18 -0400 (Fri, 25 Apr 2025) EllapsedTime: 690.9 seconds RetCode: 0 Status: WARNINGS CheckDir: BSgenome.Rcheck Warnings: 1