Package: BSgenome Version: 1.76.0 Command: /Library/Frameworks/R.framework/Resources/bin/R CMD build --keep-empty-dirs --no-resave-data BSgenome StartedAt: 2025-04-24 18:18:54 -0400 (Thu, 24 Apr 2025) EndedAt: 2025-04-24 18:21:57 -0400 (Thu, 24 Apr 2025) EllapsedTime: 183.3 seconds RetCode: 0 Status: OK PackageFile: BSgenome_1.76.0.tar.gz PackageFileSize: 5.626 MiB