Package: BSgenome Version: 1.74.0 Command: rm -rf BSgenome.buildbin-libdir && mkdir BSgenome.buildbin-libdir && /Users/biocbuild/BBS/utils/build-universal.sh BSgenome_1.74.0.tar.gz /Library/Frameworks/R.framework/Resources/bin/R BSgenome.buildbin-libdir StartedAt: 2025-01-31 12:26:35 -0500 (Fri, 31 Jan 2025) EndedAt: 2025-01-31 12:28:12 -0500 (Fri, 31 Jan 2025) EllapsedTime: 97.5 seconds RetCode: 0 Status: OK PackageFile: BSgenome_1.74.0.tgz PackageFileSize: 6.968 MiB