Package: BSgenome Version: 1.76.0 Command: /Library/Frameworks/R.framework/Resources/bin/R CMD check --install=check:BSgenome.install-out.txt --library=/Library/Frameworks/R.framework/Resources/library --no-vignettes --timings BSgenome_1.76.0.tar.gz StartedAt: 2025-04-21 19:29:21 -0400 (Mon, 21 Apr 2025) EndedAt: 2025-04-21 19:36:23 -0400 (Mon, 21 Apr 2025) EllapsedTime: 422.1 seconds RetCode: 0 Status: WARNINGS CheckDir: BSgenome.Rcheck Warnings: 1